BEGIN:VCALENDAR
VERSION:2.0
PRODID:-//Plone.org//NONSGML plone.app.event//EN
X-WR-TIMEZONE:America/Sao_Paulo
BEGIN:VEVENT
SUMMARY:Feira de Artesanato da Assufemg em [ Entorno da Praca de Servicos]
DTSTART;TZID=America/Sao_Paulo;VALUE=DATE-TIME:20240805T080000
DTEND;TZID=America/Sao_Paulo;VALUE=DATE-TIME:20240809T170000
DTSTAMP;VALUE=DATE-TIME:20260419T222910Z
UID:8eaf9e5bf46142378aa9d669b445fec1@150.164.76.86:8080
CREATED;VALUE=DATE-TIME:20240403T192839Z
DESCRIPTION:Para a Feira de Artesanato serão necessários 80 painéis.
LAST-MODIFIED;VALUE=DATE-TIME:20240404T203216Z
URL:http://150.164.76.86:8080/cac/agenda/5522104016629891578
END:VEVENT
BEGIN:VTIMEZONE
TZID:America/Sao_Paulo
X-LIC-LOCATION:America/Sao_Paulo
BEGIN:STANDARD
DTSTART;VALUE=DATE-TIME:20240217T230000
TZNAME:BRT
TZOFFSETFROM:-0200
TZOFFSETTO:-0300
END:STANDARD
END:VTIMEZONE
END:VCALENDAR
