BEGIN:VCALENDAR
VERSION:2.0
PRODID:-//Plone.org//NONSGML plone.app.event//EN
X-WR-TIMEZONE:America/Sao_Paulo
BEGIN:VEVENT
SUMMARY:Projeto DAST Saúde do Trabalhador em Foco em [ Auditorio da Reito
 ria]
DTSTART;TZID=America/Sao_Paulo;VALUE=DATE-TIME:20241122T140000
DTEND;TZID=America/Sao_Paulo;VALUE=DATE-TIME:20241122T180000
DTSTAMP;VALUE=DATE-TIME:20260419T175432Z
UID:01ff24ede057409aabee81946b49cc16@150.164.76.86:8080
CREATED;VALUE=DATE-TIME:20241003T005152Z
DESCRIPTION:<p>Encontro geral do DAST para encerramento do Projeto DAST Sa
 úde do Trabalhador em Foco com feedback da diretoria sobre as entregas do
 s Grupos de Trabalho (GTs).</p>
LAST-MODIFIED;VALUE=DATE-TIME:20241003T173513Z
URL:http://150.164.76.86:8080/cac/agenda/5520630365987424805
END:VEVENT
BEGIN:VTIMEZONE
TZID:America/Sao_Paulo
X-LIC-LOCATION:America/Sao_Paulo
BEGIN:DAYLIGHT
DTSTART;VALUE=DATE-TIME:20241020T010000
TZNAME:BRST
TZOFFSETFROM:-0300
TZOFFSETTO:-0200
END:DAYLIGHT
END:VTIMEZONE
END:VCALENDAR
