BEGIN:VCALENDAR
VERSION:2.0
PRODID:-//Plone.org//NONSGML plone.app.event//EN
X-WR-TIMEZONE:America/Sao_Paulo
BEGIN:VEVENT
SUMMARY:BLOQUEIO CAC em [ Auditório B107 do CAD3 Auditorio A104 do Cad 2]
DTSTART;TZID=America/Sao_Paulo;VALUE=DATE-TIME:20230601T060000
DTEND;TZID=America/Sao_Paulo;VALUE=DATE-TIME:20230601T220000
DTSTAMP;VALUE=DATE-TIME:20260421T103256Z
UID:df748a5e3b50459ea1888344b64e91b3@150.164.76.86:8080
CREATED;VALUE=DATE-TIME:20230425T141607Z
DESCRIPTION:<p>Bloqueio para preparação do evento da semana seguinte.</p
 >
LAST-MODIFIED;VALUE=DATE-TIME:20230503T123819Z
URL:http://150.164.76.86:8080/cac/agenda/5505871824243025931
END:VEVENT
BEGIN:VTIMEZONE
TZID:America/Sao_Paulo
X-LIC-LOCATION:America/Sao_Paulo
BEGIN:STANDARD
DTSTART;VALUE=DATE-TIME:20230225T230000
TZNAME:BRT
TZOFFSETFROM:-0200
TZOFFSETTO:-0300
END:STANDARD
END:VTIMEZONE
END:VCALENDAR
