BEGIN:VCALENDAR
VERSION:2.0
PRODID:-//Plone.org//NONSGML plone.app.event//EN
X-WR-TIMEZONE:America/Sao_Paulo
BEGIN:VEVENT
SUMMARY:Reflexão sobre manejo de crise no TEA em [ Auditorio A104 do Cad 
 2]
DTSTART;TZID=America/Sao_Paulo;VALUE=DATE-TIME:20230902T090000
DTEND;TZID=America/Sao_Paulo;VALUE=DATE-TIME:20230902T130000
DTSTAMP;VALUE=DATE-TIME:20260421T062346Z
UID:2aeb44d1630b4afb9ec283ac64dd8c19@150.164.76.86:8080
CREATED;VALUE=DATE-TIME:20230810T175639Z
DESCRIPTION:<p>Evento gratuito em 2 de setembro (9/17h) sobre manejo de cr
 ise no autismo. Vamos receber público interno da UFMG (NAI\, CP\, etc) e 
 profissionais da rede pública de saúde e de educação.</p>
LAST-MODIFIED;VALUE=DATE-TIME:20230817T143135Z
URL:http://150.164.76.86:8080/cac/agenda/5501830317464880466
END:VEVENT
BEGIN:VTIMEZONE
TZID:America/Sao_Paulo
X-LIC-LOCATION:America/Sao_Paulo
BEGIN:STANDARD
DTSTART;VALUE=DATE-TIME:20230225T230000
TZNAME:BRT
TZOFFSETFROM:-0200
TZOFFSETTO:-0300
END:STANDARD
END:VTIMEZONE
END:VCALENDAR
