BEGIN:VCALENDAR
VERSION:2.0
PRODID:-//Plone.org//NONSGML plone.app.event//EN
X-WR-TIMEZONE:America/Sao_Paulo
BEGIN:VEVENT
SUMMARY:Palestra - Mestrado e doutorado: como posso me preparar desde agor
 a? - Ciclo de Palestras EPP em [ Auditorio A102 do Cad 2]
DTSTART;TZID=America/Sao_Paulo;VALUE=DATE-TIME:20240924T140000
DTEND;TZID=America/Sao_Paulo;VALUE=DATE-TIME:20240924T160000
DTSTAMP;VALUE=DATE-TIME:20260419T205546Z
UID:f2806c3f5924445da14ccf3d81199495@150.164.76.86:8080
CREATED;VALUE=DATE-TIME:20240305T130912Z
DESCRIPTION:<p>A palestra faz parte do Ciclo de Palestras Preparatórias p
 ara o Curso de Elaboração de Projetos de Pesquisa. Está inserida no Pla
 no de Desenvolvimento de Pessoas da UFMG 2024 e necessita de transmissão 
 ao vivo.</p>
LAST-MODIFIED;VALUE=DATE-TIME:20240912T174917Z
URL:http://150.164.76.86:8080/cac/agenda/5481385848080343378
END:VEVENT
BEGIN:VTIMEZONE
TZID:America/Sao_Paulo
X-LIC-LOCATION:America/Sao_Paulo
BEGIN:STANDARD
DTSTART;VALUE=DATE-TIME:20240217T230000
TZNAME:BRT
TZOFFSETFROM:-0200
TZOFFSETTO:-0300
END:STANDARD
END:VTIMEZONE
END:VCALENDAR
