BEGIN:VCALENDAR
VERSION:2.0
PRODID:-//Plone.org//NONSGML plone.app.event//EN
X-WR-TIMEZONE:America/Sao_Paulo
BEGIN:VEVENT
SUMMARY:23ª UFMG JOVEM em [ Auditorio da Reitoria Auditorio Nobre do CAD 
 1 Arena da praça de serviços]
DTSTART;TZID=America/Sao_Paulo;VALUE=DATE-TIME:20220922T090000
DTEND;TZID=America/Sao_Paulo;VALUE=DATE-TIME:20220923T220000
DTSTAMP;VALUE=DATE-TIME:20260422T012554Z
UID:f95ff6a88bb54a1e8b891a34fefd1470@150.164.76.86:8080
CREATED;VALUE=DATE-TIME:20220425T184214Z
DESCRIPTION:<p>O evento de extensão que está em sua 23ª edição\, que 
 integra o calendário acadêmico da UFMG e que conta com apoio e presença
  da Reitora\, PROGRAD\, COMFIC\, PROFBIO\, dos/as secretários(as) de educ
 ação do Estado de Minas Gerais e da prefeitura. SIEX: 500121 - Programa 
 UFMG + Ciência &amp\; Tecnologia e Sociedade de Informação em Territór
 ios de Cidadania Não usaremos todos os auditórios ao mesmo tempo\, até 
 então estamos pensando em: 22/09 - manhã - Abertura - Auditório da Reit
 oria - com transmissão para o canal do Youtube da PROEX\, pois o evento 
 é nacional 23/09 - noite - Encerramento - Auditório da Reitoria - com tr
 ansmissão para o canal do Youtube da PROEX\, pois o evento é nacional 22
 /09 e 23/09 - atividade Conversa com Cientistas - ainda a definir horário
  - 2h de atividade dialógica entre pesquisadores e estudantes da Educaç
 ão Básica. Sem Coffee Break. A programação ainda está em construção
 .</p>
LAST-MODIFIED;VALUE=DATE-TIME:20220427T130324Z
URL:http://150.164.76.86:8080/cac/agenda/5469002563779265479
END:VEVENT
BEGIN:VTIMEZONE
TZID:America/Sao_Paulo
X-LIC-LOCATION:America/Sao_Paulo
BEGIN:STANDARD
DTSTART;VALUE=DATE-TIME:20220219T230000
TZNAME:BRT
TZOFFSETFROM:-0200
TZOFFSETTO:-0300
END:STANDARD
END:VTIMEZONE
END:VCALENDAR
