BEGIN:VCALENDAR
VERSION:2.0
PRODID:-//Plone.org//NONSGML plone.app.event//EN
X-WR-TIMEZONE:America/Sao_Paulo
BEGIN:VEVENT
SUMMARY:MOSTRA SUA UFMG em [ Auditorio da Reitoria Saguao da Reitoria Gram
 ado da Reitoria Arena da praça de serviços Entorno da Praca de Servicos 
 Auditorio Nobre do CAD 1 Auditorio 1A do CAD 1 Auditorio 2A do CAD 1 Audit
 orio A102 do Cad 2 Auditorio A104 do Cad 2 Auditório B101/102 do CAD 3 Au
 ditório B106 do CAD3 Auditório B107 do CAD3 Auditório B301 do CAD 3 Aud
 itório B302 do CAD 3 Auditório B306 do CAD3 Outros espacos]
DTSTART;TZID=America/Sao_Paulo;VALUE=DATE-TIME:20240523T060000
DTEND;TZID=America/Sao_Paulo;VALUE=DATE-TIME:20240528T210000
DTSTAMP;VALUE=DATE-TIME:20260420T030401Z
UID:1a1721a57f48481f9c373afd9403868a@150.164.76.86:8080
CREATED;VALUE=DATE-TIME:20231106T140609Z
DESCRIPTION:<p>MOSTRA SUA UFMG - EVENTO DO CALENDÁRIO ACADÊMICO</p>
LAST-MODIFIED;VALUE=DATE-TIME:20231106T140640Z
URL:http://150.164.76.86:8080/cac/agenda/5466203773538365721
END:VEVENT
BEGIN:VTIMEZONE
TZID:America/Sao_Paulo
X-LIC-LOCATION:America/Sao_Paulo
BEGIN:STANDARD
DTSTART;VALUE=DATE-TIME:20240217T230000
TZNAME:BRT
TZOFFSETFROM:-0200
TZOFFSETTO:-0300
END:STANDARD
END:VTIMEZONE
END:VCALENDAR
