BEGIN:VCALENDAR
VERSION:2.0
PRODID:-//Plone.org//NONSGML plone.app.event//EN
X-WR-TIMEZONE:America/Sao_Paulo
BEGIN:VEVENT
SUMMARY:Ensaio Concerto Musical Silvia Clain e Vagner Sander em [ Outros e
 spacos]
DTSTART;TZID=America/Sao_Paulo;VALUE=DATE-TIME:20221129T140000
DTEND;TZID=America/Sao_Paulo;VALUE=DATE-TIME:20221129T170000
DTSTAMP;VALUE=DATE-TIME:20260421T232639Z
UID:c5484a523b554834b5e969dab9829dd9@150.164.76.86:8080
CREATED;VALUE=DATE-TIME:20220809T193330Z
DESCRIPTION:Ensaio com sonorização
LAST-MODIFIED;VALUE=DATE-TIME:20220819T180126Z
URL:http://150.164.76.86:8080/cac/agenda/5464921188070753912
END:VEVENT
BEGIN:VTIMEZONE
TZID:America/Sao_Paulo
X-LIC-LOCATION:America/Sao_Paulo
BEGIN:DAYLIGHT
DTSTART;VALUE=DATE-TIME:20221016T010000
TZNAME:BRST
TZOFFSETFROM:-0300
TZOFFSETTO:-0200
END:DAYLIGHT
END:VTIMEZONE
END:VCALENDAR
