BEGIN:VCALENDAR
VERSION:2.0
PRODID:-//Plone.org//NONSGML plone.app.event//EN
X-WR-TIMEZONE:America/Sao_Paulo
BEGIN:VEVENT
SUMMARY:SESSÃO PÚBLICA CPPD VAGAS MAGISTÉRIO SUPERIOR COTAS em [ Outros
  espacos]
DTSTART;TZID=America/Sao_Paulo;VALUE=DATE-TIME:20230306T100000
DTEND;TZID=America/Sao_Paulo;VALUE=DATE-TIME:20230306T110000
DTSTAMP;VALUE=DATE-TIME:20260421T145709Z
UID:f9ffe57e93444b0d8ebab7f11331d593@150.164.76.86:8080
CREATED;VALUE=DATE-TIME:20230118T184111Z
DESCRIPTION:<p>Transmissão do sorteio/sessão pública da CPPD\, no canal
  You Tube da CAC - plataforma Zoom.</p>
LAST-MODIFIED;VALUE=DATE-TIME:20230223T135727Z
URL:http://150.164.76.86:8080/cac/agenda/5454845530507589310
END:VEVENT
BEGIN:VTIMEZONE
TZID:America/Sao_Paulo
X-LIC-LOCATION:America/Sao_Paulo
BEGIN:STANDARD
DTSTART;VALUE=DATE-TIME:20230225T230000
TZNAME:BRT
TZOFFSETFROM:-0200
TZOFFSETTO:-0300
END:STANDARD
END:VTIMEZONE
END:VCALENDAR
