BEGIN:VCALENDAR
VERSION:2.0
PRODID:-//Plone.org//NONSGML plone.app.event//EN
X-WR-TIMEZONE:America/Sao_Paulo
BEGIN:VEVENT
SUMMARY:Reunião sobre propostas para o edital FINEP - Centros Temáticos 
 2023 em [ Auditorio da Reitoria]
DTSTART;TZID=America/Sao_Paulo;VALUE=DATE-TIME:20240227T140000
DTEND;TZID=America/Sao_Paulo;VALUE=DATE-TIME:20240227T170000
DTSTAMP;VALUE=DATE-TIME:20260420T080745Z
UID:d5d241ca796c4a08914ea44c4ba7e8e4@150.164.76.86:8080
CREATED;VALUE=DATE-TIME:20240221T144610Z
DESCRIPTION:<p>Reunião para discussão sobre as propostas dos interessado
 s no edital FINEP - Centros Temáticos 2023. Será necessário o uso de la
 ptop\, projetor\, microfone e apontador. Uma pessoa deverá ficar à mesa 
 para a apresentação. Haverá um participante externo\, que integrará a 
 reunião por videoconferência. Não haverá demais formalidades.</p>
LAST-MODIFIED;VALUE=DATE-TIME:20240226T114832Z
URL:http://150.164.76.86:8080/cac/agenda/5441753108128303069
END:VEVENT
BEGIN:VTIMEZONE
TZID:America/Sao_Paulo
X-LIC-LOCATION:America/Sao_Paulo
BEGIN:STANDARD
DTSTART;VALUE=DATE-TIME:20240217T230000
TZNAME:BRT
TZOFFSETFROM:-0200
TZOFFSETTO:-0300
END:STANDARD
END:VTIMEZONE
END:VCALENDAR
