BEGIN:VCALENDAR
VERSION:2.0
PRODID:-//Plone.org//NONSGML plone.app.event//EN
X-WR-TIMEZONE:America/Sao_Paulo
BEGIN:VEVENT
SUMMARY:BANCA DE HETEROIDENTIFICAÇÃO em [ Outros espacos]
DTSTART;TZID=America/Sao_Paulo;VALUE=DATE-TIME:20250312T070000
DTEND;TZID=America/Sao_Paulo;VALUE=DATE-TIME:20250312T190000
DTSTAMP;VALUE=DATE-TIME:20260419T115915Z
UID:059f98a3fa2b47389cc0f23969e147b2@150.164.76.86:8080
CREATED;VALUE=DATE-TIME:20250108T141210Z
DESCRIPTION:<p>12/3/2025    SISU    1ª Chamada e 1ª Antecipação
     CPAAI    Banca Recursal de Heteroidentificação dos candidatos 
 indeferidos<br />12/3/2025    SISU    3ª Chamada e 3ª Antecipaçã
 o    CPAAI\, NAI    Banca de Heteroidentificação e Banca de Verifi
 cação e Validação PCD<br /><br /></p>
LAST-MODIFIED;VALUE=DATE-TIME:20250108T145101Z
URL:http://150.164.76.86:8080/cac/agenda/5431306352418657452
END:VEVENT
BEGIN:VTIMEZONE
TZID:America/Sao_Paulo
X-LIC-LOCATION:America/Sao_Paulo
BEGIN:STANDARD
DTSTART;VALUE=DATE-TIME:20250215T230000
TZNAME:BRT
TZOFFSETFROM:-0200
TZOFFSETTO:-0300
END:STANDARD
END:VTIMEZONE
END:VCALENDAR
