BEGIN:VCALENDAR
VERSION:2.0
PRODID:-//Plone.org//NONSGML plone.app.event//EN
X-WR-TIMEZONE:America/Sao_Paulo
BEGIN:VEVENT
SUMMARY:Festival Museu de História Natural em [ Outros espacos Auditorio 
 da Reitoria Gramado da Reitoria Entorno da Praca de Servicos Auditorio Nob
 re do CAD 1 Auditorio 1A do CAD 1 Auditorio 2A do CAD 1 Auditorio A102 do 
 Cad 2 Auditorio A104 do Cad 2 Arena da praça de serviços Auditório B302
  do CAD 3 Auditório B101/102 do CAD 3 Auditório B301 do CAD 3 Auditório
  B106 do CAD3 Auditório B107 do CAD3]
DTSTART;TZID=America/Sao_Paulo;VALUE=DATE-TIME:20221031T070000
DTEND;TZID=America/Sao_Paulo;VALUE=DATE-TIME:20221104T220000
DTSTAMP;VALUE=DATE-TIME:20260421T204408Z
UID:11418303dc0943ae829d863ad8923902@150.164.76.86:8080
CREATED;VALUE=DATE-TIME:20220719T145621Z
DESCRIPTION:<p>Aguardando programação </p>
LAST-MODIFIED;VALUE=DATE-TIME:20230111T201116Z
URL:http://150.164.76.86:8080/cac/agenda/5430798481061933645
END:VEVENT
BEGIN:VTIMEZONE
TZID:America/Sao_Paulo
X-LIC-LOCATION:America/Sao_Paulo
BEGIN:DAYLIGHT
DTSTART;VALUE=DATE-TIME:20221016T010000
TZNAME:BRST
TZOFFSETFROM:-0300
TZOFFSETTO:-0200
END:DAYLIGHT
END:VTIMEZONE
END:VCALENDAR
