BEGIN:VCALENDAR
VERSION:2.0
PRODID:-//Plone.org//NONSGML plone.app.event//EN
X-WR-TIMEZONE:America/Sao_Paulo
BEGIN:VEVENT
SUMMARY:Reunião de trabalho da Rede Mineira de Educação Básica. em [ A
 uditório B101/102 do CAD 3]
DTSTART;TZID=America/Sao_Paulo;VALUE=DATE-TIME:20250127T140000
DTEND;TZID=America/Sao_Paulo;VALUE=DATE-TIME:20250127T170000
DTSTAMP;VALUE=DATE-TIME:20260419T144942Z
UID:4a37fa62e0514ad88452ca23780f724a@150.164.76.86:8080
CREATED;VALUE=DATE-TIME:20241230T154238Z
DESCRIPTION:<p>Projeção\, computador\, microfone de mesa.</p>
LAST-MODIFIED;VALUE=DATE-TIME:20250115T193030Z
URL:http://150.164.76.86:8080/cac/agenda/5422889199328297530
END:VEVENT
BEGIN:VTIMEZONE
TZID:America/Sao_Paulo
X-LIC-LOCATION:America/Sao_Paulo
BEGIN:DAYLIGHT
DTSTART;VALUE=DATE-TIME:20241020T010000
TZNAME:BRST
TZOFFSETFROM:-0300
TZOFFSETTO:-0200
END:DAYLIGHT
END:VTIMEZONE
END:VCALENDAR
