BEGIN:VCALENDAR
VERSION:2.0
PRODID:-//Plone.org//NONSGML plone.app.event//EN
X-WR-TIMEZONE:America/Sao_Paulo
BEGIN:VEVENT
SUMMARY:III Seminário Teorias da Comunicação e Experiência em [ Audito
 rio A102 do Cad 2]
DTSTART;TZID=America/Sao_Paulo;VALUE=DATE-TIME:20241204T080000
DTEND;TZID=America/Sao_Paulo;VALUE=DATE-TIME:20241205T210000
DTSTAMP;VALUE=DATE-TIME:20260419T163438Z
UID:07a9fc88c14444f1bdfe4ebac05117fc@150.164.76.86:8080
CREATED;VALUE=DATE-TIME:20241126T191836Z
DESCRIPTION:<p>seminário</p>
LAST-MODIFIED;VALUE=DATE-TIME:20241127T183408Z
URL:http://150.164.76.86:8080/cac/agenda/5416945301222576487
END:VEVENT
BEGIN:VTIMEZONE
TZID:America/Sao_Paulo
X-LIC-LOCATION:America/Sao_Paulo
BEGIN:DAYLIGHT
DTSTART;VALUE=DATE-TIME:20241020T010000
TZNAME:BRST
TZOFFSETFROM:-0300
TZOFFSETTO:-0200
END:DAYLIGHT
END:VTIMEZONE
END:VCALENDAR
