BEGIN:VCALENDAR
VERSION:2.0
PRODID:-//Plone.org//NONSGML plone.app.event//EN
X-WR-TIMEZONE:America/Sao_Paulo
BEGIN:VEVENT
SUMMARY:CAPACIDADE EXCEDIDA em [ Saguao da Reitoria Auditorio da Reitoria 
 Gramado da Reitoria Entorno da Praca de Servicos Auditorio Nobre do CAD 1 
 Auditorio 2A do CAD 1 Auditorio A102 do Cad 2 Auditorio A104 do Cad 2 Aren
 a da praça de serviços Auditório B302 do CAD 3 Auditório B101/102 do C
 AD 3 Auditório B301 do CAD 3]
DTSTART;TZID=America/Sao_Paulo;VALUE=DATE-TIME:20200429T180000
DTEND;TZID=America/Sao_Paulo;VALUE=DATE-TIME:20200429T230000
DTSTAMP;VALUE=DATE-TIME:20260425T012151Z
UID:61bab87f712d451abba9f37500d9da9e@150.164.76.86:8080
CREATED;VALUE=DATE-TIME:20200205T153337Z
DESCRIPTION:<p>.</p>
LAST-MODIFIED;VALUE=DATE-TIME:20230111T201047Z
URL:http://150.164.76.86:8080/cac/agenda/5415414790800797927
END:VEVENT
BEGIN:VTIMEZONE
TZID:America/Sao_Paulo
X-LIC-LOCATION:America/Sao_Paulo
BEGIN:STANDARD
DTSTART;VALUE=DATE-TIME:20200215T230000
TZNAME:BRT
TZOFFSETFROM:-0200
TZOFFSETTO:-0300
END:STANDARD
END:VTIMEZONE
END:VCALENDAR
