BEGIN:VCALENDAR
VERSION:2.0
PRODID:-//Plone.org//NONSGML plone.app.event//EN
X-WR-TIMEZONE:America/Sao_Paulo
BEGIN:VEVENT
SUMMARY:Painel - Instrumentos do Marco Legal da C\, T & I - Curso de Capac
 itação em Empreendedorismo e Gestão para Infraestruturas de Pesquisa - 
 OutLab em [ Auditório B107 do CAD3]
DTSTART;TZID=America/Sao_Paulo;VALUE=DATE-TIME:20230830T150000
DTEND;TZID=America/Sao_Paulo;VALUE=DATE-TIME:20230830T163000
DTSTAMP;VALUE=DATE-TIME:20260421T091454Z
UID:2530673bd6044be79906fb1cc4b3b0d0@150.164.76.86:8080
CREATED;VALUE=DATE-TIME:20230822T113826Z
DESCRIPTION:<p>A data do evento é 30/08/2023 de 15:00 às 16:30 horas Eve
 nto: Painel - Instrumentos do Marco Legal da C\, T &amp\; I. Público: apr
 oximadamente 60 pessoas Equipamentos / infraestrutura necessários: intern
 et\, projetor\, notebook\, microfone Haverá coffee break - Favor disponib
 ilizar mesa. Haverá interação com a plateia Favor disponibilizar mesa n
 o palco para colocar o computador para a exibição dos arquivos e um micr
 ofone\, para uso do palestrante.</p>
LAST-MODIFIED;VALUE=DATE-TIME:20230824T190046Z
URL:http://150.164.76.86:8080/cac/agenda/5410605401311669673
END:VEVENT
BEGIN:VTIMEZONE
TZID:America/Sao_Paulo
X-LIC-LOCATION:America/Sao_Paulo
BEGIN:STANDARD
DTSTART;VALUE=DATE-TIME:20230225T230000
TZNAME:BRT
TZOFFSETFROM:-0200
TZOFFSETTO:-0300
END:STANDARD
END:VTIMEZONE
END:VCALENDAR
