BEGIN:VCALENDAR
VERSION:2.0
PRODID:-//Plone.org//NONSGML plone.app.event//EN
X-WR-TIMEZONE:America/Sao_Paulo
BEGIN:VEVENT
SUMMARY:Mostra de Internacionalização da UFMG em [ Auditorio Nobre do CA
 D 1 - sem copa\, saguão parcial]
DTSTART;TZID=America/Sao_Paulo;VALUE=DATE-TIME:20250519T080000
DTEND;TZID=America/Sao_Paulo;VALUE=DATE-TIME:20250519T180000
DTSTAMP;VALUE=DATE-TIME:20260419T091108Z
UID:e860ff4bebb64b4e83e44dbb1d12b4a7@150.164.76.86:8080
CREATED;VALUE=DATE-TIME:20250411T183901Z
DESCRIPTION:Aberta da Mostra de Internacionalização da UMFG e Comemoraç
 ão de 60 anos do PEC-G. Será necessário som\, microfone\, projetor. Mes
 a para até 6 palestrantes  no palco.
LAST-MODIFIED;VALUE=DATE-TIME:20250414T150940Z
URL:http://150.164.76.86:8080/cac/agenda/5407477446783787199
END:VEVENT
BEGIN:VTIMEZONE
TZID:America/Sao_Paulo
X-LIC-LOCATION:America/Sao_Paulo
BEGIN:STANDARD
DTSTART;VALUE=DATE-TIME:20250215T230000
TZNAME:BRT
TZOFFSETFROM:-0200
TZOFFSETTO:-0300
END:STANDARD
END:VTIMEZONE
END:VCALENDAR
