BEGIN:VCALENDAR
VERSION:2.0
PRODID:-//Plone.org//NONSGML plone.app.event//EN
X-WR-TIMEZONE:America/Sao_Paulo
BEGIN:VEVENT
SUMMARY:3ª Semana de Formação de Formadores da Rede PED em [ Auditorio 
 A102 do Cad 2 Auditorio A104 do Cad 2]
DTSTART;TZID=America/Sao_Paulo;VALUE=DATE-TIME:20250321T140000
DTEND;TZID=America/Sao_Paulo;VALUE=DATE-TIME:20250329T130000
DTSTAMP;VALUE=DATE-TIME:20260419T120214Z
UID:9bcce30c71ed45ce831acf8d855422a7@150.164.76.86:8080
CREATED;VALUE=DATE-TIME:20241205T200849Z
DESCRIPTION:<p>A 3ª Semana de Formação de Formadores 2025\, visa aprese
 ntar o currículo da Rede PED Brasil\, e demonstrar as práticas\, os prin
 cípios pedagógicos e a base de conhecimento para a docência que fundame
 ntam e estruturam o curso de especialização ofertado pelas IES membros d
 a Rede\, como a UFMG. A UFMG é membro da Rede PED Brasil\, sendo reconhec
 ida por sua longa tradição de formação inicial e continuada de profess
 ores/as de Educação Básica através de cursos de Licenciatura\, Pós-gr
 aduação stricto sensu e Cursos de Especialização. Entretanto\, a deman
 da por formações continuadas para as(os) professoras(es) de ciências no
  Ensino Fundamental e Médio é crescente e contínua\, à luz da reforma 
 curricular proposta na nova versão da BNCC. O formato e o conteúdo desta
  semana de formação proporcionam uma vivência imersiva em partes desse 
 currículo que foi construído pela Escola de Formação de Professores da
  Universidade de Stanford/USA\, sob coordenação da Profª emérita\, Pro
 fª Drª Rachel Lotan. As atividades da semana de formação são realizad
 as por meio de interações colaborativas entre pares da mesma instituiç
 ão e de instituições diferentes\, os quais vivenciam a articulação de
  teoria e prática\, tão fundamental na formação continuada\, pois leva
  à construção de novos saberes e de salas de aulas equitativas e democr
 áticas. Além disso\, o(a) professor(a) ao aprender a fazer uso de uma pr
 ática pedagógica centrada no estudante\, transformará a sala de aula\, 
 atribuindo competências e garantindo múltiplas oportunidades de aprendiz
 agem\, que vão além da aquisição do conteúdo. Os saberes produzidos e
  valorizados terão um significado como agentes de transformação social\
 , promovendo excelência e equidade social\, e diminuindo a desigualdade s
 ocial e econômica no país. Ao concluir a semana de formação de formado
 res\, os participantes receberão um certificado. Ao longo do evento serã
 o utilizados mesas redondas\, cadeiras\, pontos de energia\, datashow\, te
 la para projeção\, notebooks\, caixas acústicas\, microfones e ventilad
 ores para o saguão do auditórios do CAD2. Será importante para os parti
 cipantes e organizadores terem acesso à internet. Programação ao longo 
 da semana todos os dias o intervalo para almoço será 12h30 - 14h \; Sáb
 ado (22 de março) e domingo (23 de março/2025): preparação dos espaço
 s para a realização do evento na segunda (24/03/2025) `8:00 horas da man
 hã. 2a. feira (24 de março/2025) 8h00 às 9h30: Recepção\; 9h30: Intro
 dução e orientação para o dia\; 10:00-12:30 Fazendo Ciências e Matem
 ática juntos\; 14h-17h: Planejamento do currículo em ação: pensando na
 s compreensões desejadas 3a. feira (25 de março/2025) 8h30 às 9h30: Ori
 entação e devolutivas\; 9:30-12:30 Avaliação para a equidade\; 14h-17h
 :Pesquisa em educação 4a. feira (26 de março/2025) 8h30 às 9h30: Orien
 tação e devolutivas\; 9:30-12:30 Ensino de Matemática ou Ciências em s
 alas de aula equitativas I\; 14h-17h: Educação e Democracia em um mundo 
 desigual 5a. feira (27 de março/2025) 8h30 às 9h30: Orientação e devol
 utivas\; 9:30-12:30 Ensino de Matemática ou Ciências em salas de aula eq
 uitativas II\; 14h-17h: Trabalho em grupo em salas de aula heterogêneas 6
 a. feira (28 de março/2025) 8h30 às 9h30: Orientação e devolutivas\; 9
 :30-12:30 Construindo o Portfólio/Padrões Profissionais\; 14h-17h:Constr
 uindo a Rede PED Sábado (29 de março/2025): 9h-12h: Autovaliação\, ava
 liação e fechamento do evento Observação: Ao longo da semana de forma
 ção\, haverá intervalo para almoço de 12h30 - 14h</p>
LAST-MODIFIED;VALUE=DATE-TIME:20241217T181127Z
URL:http://150.164.76.86:8080/cac/agenda/5399037809864772237
END:VEVENT
BEGIN:VTIMEZONE
TZID:America/Sao_Paulo
X-LIC-LOCATION:America/Sao_Paulo
BEGIN:STANDARD
DTSTART;VALUE=DATE-TIME:20250215T230000
TZNAME:BRT
TZOFFSETFROM:-0200
TZOFFSETTO:-0300
END:STANDARD
END:VTIMEZONE
END:VCALENDAR
