BEGIN:VCALENDAR
VERSION:2.0
PRODID:-//Plone.org//NONSGML plone.app.event//EN
X-WR-TIMEZONE:America/Sao_Paulo
BEGIN:VEVENT
SUMMARY:Seminário de Abertura do Pibid 2024 em [ Auditorio Nobre do CAD 1
 ]
DTSTART;TZID=America/Sao_Paulo;VALUE=DATE-TIME:20250131T140000
DTEND;TZID=America/Sao_Paulo;VALUE=DATE-TIME:20250131T183000
DTSTAMP;VALUE=DATE-TIME:20260419T150225Z
UID:97d2d8adf2c547dfb7765916e91fd51e@150.164.76.86:8080
CREATED;VALUE=DATE-TIME:20241204T131204Z
DESCRIPTION:Resumo do Evento\nO Seminário de Abertura do Pibid/UFMG 2024 
 terá como objetivo dar as boas-vindas aos discentes dos cursos de licenci
 aturas\, docentes da Educação Básica e docentes da Universidade que con
 stituirão o novo grupo de bolsistas do Programa Institucional de Bolsa de
  Iniciação à Docência (PIBID). O Pibid é uma iniciativa que integra a
  Política Nacional de Formação de Professores do Ministério da Educaç
 ão\, é financiado pela CAPES\, e tem por finalidade fomentar a iniciaç
 ão à docência\, contribuindo para o aperfeiçoamento da formação de d
 ocentes em nível superior e para a melhoria de qualidade da educação b
 ásica pública brasileira. \n\nProgramação Inicial - A Programação ai
 nda está em elaboração\, mas como desenho inicial temos:\n(14:00h – 1
 4:30h) Credenciamento \n(14:30h – 15:00h) Mesa de Abertura\n(15:10h – 
 16:10h) Apresentação geral do Programa e Sua importância dentro da Pol
 ítica Institucional da UFMG\n(16:20 – 17:20h) Conferência com o Prof. 
 António Nóvoa\n(17:30 – 18:30) Debate com o público\n\nSolicitação 
 de Serviços:\n- Gravação e Transmissão ao vivo do evento
LAST-MODIFIED;VALUE=DATE-TIME:20241204T132032Z
URL:http://150.164.76.86:8080/cac/agenda/5394536490528047577
END:VEVENT
BEGIN:VTIMEZONE
TZID:America/Sao_Paulo
X-LIC-LOCATION:America/Sao_Paulo
BEGIN:DAYLIGHT
DTSTART;VALUE=DATE-TIME:20241020T010000
TZNAME:BRST
TZOFFSETFROM:-0300
TZOFFSETTO:-0200
END:DAYLIGHT
END:VTIMEZONE
END:VCALENDAR
