BEGIN:VCALENDAR
VERSION:2.0
PRODID:-//Plone.org//NONSGML plone.app.event//EN
X-WR-TIMEZONE:America/Sao_Paulo
BEGIN:VEVENT
SUMMARY:Tópicos em Sociologia em [ Auditorio Nobre do CAD 1]
DTSTART;TZID=America/Sao_Paulo;VALUE=DATE-TIME:20231117T133000
DTEND;TZID=America/Sao_Paulo;VALUE=DATE-TIME:20231117T173000
DTSTAMP;VALUE=DATE-TIME:20260420T131858Z
UID:5e7ce07bae2c4f708ae563a865ae6c8e@150.164.76.86:8080
CREATED;VALUE=DATE-TIME:20231003T203838Z
DESCRIPTION:<p>Projetor e áudio para exibição de um filme e um microfon
 e.</p>
LAST-MODIFIED;VALUE=DATE-TIME:20231030T140726Z
URL:http://150.164.76.86:8080/cac/agenda/5394534844620319370
END:VEVENT
BEGIN:VTIMEZONE
TZID:America/Sao_Paulo
X-LIC-LOCATION:America/Sao_Paulo
BEGIN:DAYLIGHT
DTSTART;VALUE=DATE-TIME:20231015T010000
TZNAME:BRST
TZOFFSETFROM:-0300
TZOFFSETTO:-0200
END:DAYLIGHT
END:VTIMEZONE
END:VCALENDAR
