BEGIN:VCALENDAR
VERSION:2.0
PRODID:-//Plone.org//NONSGML plone.app.event//EN
X-WR-TIMEZONE:America/Sao_Paulo
BEGIN:VEVENT
SUMMARY:Encontro do Programa de Pós Gradução em Patologia da UFMG em [ 
 Auditorio Nobre do CAD 1]
DTSTART;TZID=America/Sao_Paulo;VALUE=DATE-TIME:20220831T080000
DTEND;TZID=America/Sao_Paulo;VALUE=DATE-TIME:20220902T180000
DTSTAMP;VALUE=DATE-TIME:20260421T234952Z
UID:871954b128d54550adb2a4fd98cceaee@150.164.76.86:8080
CREATED;VALUE=DATE-TIME:20220408T135019Z
DESCRIPTION:<p>O evento é o Encontro de PPG Patologia da UFMG\, publico e
 sperado 200 participantes. Precisaremos de um auditório com sistema de pr
 ojeção e som para as palestras presenciais e sistema de multimidea para 
 transmissão de palestras virtuais. Palestras de outras cidades darão pal
 estras remostas. projetadas no auditório. Iremos precisar de paneis de ma
 deira para exposição de posters no hall do cad 1</p>
LAST-MODIFIED;VALUE=DATE-TIME:20220419T120808Z
URL:http://150.164.76.86:8080/cac/agenda/5384306296680224573
END:VEVENT
BEGIN:VTIMEZONE
TZID:America/Sao_Paulo
X-LIC-LOCATION:America/Sao_Paulo
BEGIN:STANDARD
DTSTART;VALUE=DATE-TIME:20220219T230000
TZNAME:BRT
TZOFFSETFROM:-0200
TZOFFSETTO:-0300
END:STANDARD
END:VTIMEZONE
END:VCALENDAR
