BEGIN:VCALENDAR
VERSION:2.0
PRODID:-//Plone.org//NONSGML plone.app.event//EN
X-WR-TIMEZONE:America/Sao_Paulo
BEGIN:VEVENT
SUMMARY:Seminário de Anatomia Aplicada às técnicas complementares ao tr
 atamento ou diagnóstico na Estética. em [ Auditorio Nobre do CAD 1]
DTSTART;TZID=America/Sao_Paulo;VALUE=DATE-TIME:20231129T073000
DTEND;TZID=America/Sao_Paulo;VALUE=DATE-TIME:20231201T213000
DTSTAMP;VALUE=DATE-TIME:20260420T102242Z
UID:de7989cfcf07431590524843c5e0b904@150.164.76.86:8080
CREATED;VALUE=DATE-TIME:20230804T142612Z
DESCRIPTION:<p>Equipamentos: - Projetor de alta resolução\; - Microfone\
 ; - Transmissão ao vivo de demonstração de técnicas no cadáver\, do I
 CB para o auditório do CAD. - Espaço no lobby para possíveis patrocinad
 ores\; - Espaço para café\; - Espaço para credenciamento. Programação
 : Aulas sequenciais\, com palestrantes presenciais.</p>
LAST-MODIFIED;VALUE=DATE-TIME:20230822T135639Z
URL:http://150.164.76.86:8080/cac/agenda/5369122780451083612
END:VEVENT
BEGIN:VTIMEZONE
TZID:America/Sao_Paulo
X-LIC-LOCATION:America/Sao_Paulo
BEGIN:DAYLIGHT
DTSTART;VALUE=DATE-TIME:20231015T010000
TZNAME:BRST
TZOFFSETFROM:-0300
TZOFFSETTO:-0200
END:DAYLIGHT
END:VTIMEZONE
END:VCALENDAR
