BEGIN:VCALENDAR
VERSION:2.0
PRODID:-//Plone.org//NONSGML plone.app.event//EN
X-WR-TIMEZONE:America/Sao_Paulo
BEGIN:VEVENT
SUMMARY:Feira da UFMG em [ Entorno da Praca de Servicos]
DTSTART;TZID=America/Sao_Paulo;VALUE=DATE-TIME:20230705T060000
DTEND;TZID=America/Sao_Paulo;VALUE=DATE-TIME:20230705T180000
DTSTAMP;VALUE=DATE-TIME:20260421T091543Z
UID:95d24af0b90f49159d0cabf60546c66c@150.164.76.86:8080
CREATED;VALUE=DATE-TIME:20230301T122245Z
DESCRIPTION:Não serão necessários equipamentos ou serviçso adicionais.
LAST-MODIFIED;VALUE=DATE-TIME:20230301T131526Z
URL:http://150.164.76.86:8080/cac/agenda/5368811848646321329
END:VEVENT
BEGIN:VTIMEZONE
TZID:America/Sao_Paulo
X-LIC-LOCATION:America/Sao_Paulo
BEGIN:STANDARD
DTSTART;VALUE=DATE-TIME:20230225T230000
TZNAME:BRT
TZOFFSETFROM:-0200
TZOFFSETTO:-0300
END:STANDARD
END:VTIMEZONE
END:VCALENDAR
