BEGIN:VCALENDAR
VERSION:2.0
PRODID:-//Plone.org//NONSGML plone.app.event//EN
X-WR-TIMEZONE:America/Sao_Paulo
BEGIN:VEVENT
SUMMARY:Seminários LSE/PPGCOM em [ Auditorio A102 do Cad 2]
DTSTART;TZID=America/Sao_Paulo;VALUE=DATE-TIME:20200624T133000
DTEND;TZID=America/Sao_Paulo;VALUE=DATE-TIME:20200708T173000
DTSTAMP;VALUE=DATE-TIME:20260424T210503Z
UID:cf3de63dff6244f5983c18169cde8b10@150.164.76.86:8080
CREATED;VALUE=DATE-TIME:20200124T021013Z
DESCRIPTION:<p>Equipamentos: notebook e projetor. Estrutura para traduçã
 o simultânea. Serviço de café e água. Programação: De 25/06 a 01/07:
  conferência e seminários com o Prof. Bart Cammaerts\, da London School 
 of Economics and Political Science. "Democracy and Communication" De 02/07
  a 08/07: conferência e seminários com a Prof. Myria Georgiou\, da Londo
 n School of Economics and Political Science. "Digital city: Identity and C
 itizenship Challenges in Networked Cities"</p>
LAST-MODIFIED;VALUE=DATE-TIME:20200204T201241Z
URL:http://150.164.76.86:8080/cac/agenda/5359976542310183843
END:VEVENT
BEGIN:VTIMEZONE
TZID:America/Sao_Paulo
X-LIC-LOCATION:America/Sao_Paulo
BEGIN:STANDARD
DTSTART;VALUE=DATE-TIME:20200215T230000
TZNAME:BRT
TZOFFSETFROM:-0200
TZOFFSETTO:-0300
END:STANDARD
END:VTIMEZONE
END:VCALENDAR
