BEGIN:VCALENDAR
VERSION:2.0
PRODID:-//Plone.org//NONSGML plone.app.event//EN
X-WR-TIMEZONE:America/Sao_Paulo
BEGIN:VEVENT
SUMMARY:Tópicos em Filosofia em [ Auditório B101/102 do CAD 3]
DTSTART;TZID=America/Sao_Paulo;VALUE=DATE-TIME:20230623T130000
DTEND;TZID=America/Sao_Paulo;VALUE=DATE-TIME:20230623T173000
DTSTAMP;VALUE=DATE-TIME:20260421T122058Z
UID:507d491be4da4dcb8089c84434c86781@150.164.76.86:8080
CREATED;VALUE=DATE-TIME:20230425T171108Z
DESCRIPTION:<p>Seminário tópicos em filosofia.</p>
LAST-MODIFIED;VALUE=DATE-TIME:20230426T150746Z
URL:http://150.164.76.86:8080/cac/agenda/5338363390693374624
END:VEVENT
BEGIN:VTIMEZONE
TZID:America/Sao_Paulo
X-LIC-LOCATION:America/Sao_Paulo
BEGIN:STANDARD
DTSTART;VALUE=DATE-TIME:20230225T230000
TZNAME:BRT
TZOFFSETFROM:-0200
TZOFFSETTO:-0300
END:STANDARD
END:VTIMEZONE
END:VCALENDAR
