BEGIN:VCALENDAR
VERSION:2.0
PRODID:-//Plone.org//NONSGML plone.app.event//EN
X-WR-TIMEZONE:America/Sao_Paulo
BEGIN:VEVENT
SUMMARY:Seminário Fhemig - tema a definir em [ Outros espacos]
DTSTART;TZID=America/Sao_Paulo;VALUE=DATE-TIME:20230614T140000
DTEND;TZID=America/Sao_Paulo;VALUE=DATE-TIME:20230614T160000
DTSTAMP;VALUE=DATE-TIME:20260421T121935Z
UID:24658d7f8ae444dcb618d98388653c0a@150.164.76.86:8080
CREATED;VALUE=DATE-TIME:20230522T124334Z
DESCRIPTION:6° Seminário fruto da parceria entre UFMG e Fhemig.
LAST-MODIFIED;VALUE=DATE-TIME:20230522T143458Z
URL:http://150.164.76.86:8080/cac/agenda/5298025613226058126
END:VEVENT
BEGIN:VTIMEZONE
TZID:America/Sao_Paulo
X-LIC-LOCATION:America/Sao_Paulo
BEGIN:STANDARD
DTSTART;VALUE=DATE-TIME:20230225T230000
TZNAME:BRT
TZOFFSETFROM:-0200
TZOFFSETTO:-0300
END:STANDARD
END:VTIMEZONE
END:VCALENDAR
