BEGIN:VCALENDAR
VERSION:2.0
PRODID:-//Plone.org//NONSGML plone.app.event//EN
X-WR-TIMEZONE:America/Sao_Paulo
BEGIN:VEVENT
SUMMARY:Reunião Sala de Sessões PROGRAD em [ Outros espacos]
DTSTART;TZID=America/Sao_Paulo;VALUE=DATE-TIME:20220512T130000
DTEND;TZID=America/Sao_Paulo;VALUE=DATE-TIME:20220512T180000
DTSTAMP;VALUE=DATE-TIME:20260422T081605Z
UID:5548db73b4314b69a3ab4f6046e14067@150.164.76.86:8080
CREATED;VALUE=DATE-TIME:20220509T150807Z
DESCRIPTION:<p>.</p>
LAST-MODIFIED;VALUE=DATE-TIME:20220509T150837Z
URL:http://150.164.76.86:8080/cac/agenda/5289215036447270706
END:VEVENT
BEGIN:VTIMEZONE
TZID:America/Sao_Paulo
X-LIC-LOCATION:America/Sao_Paulo
BEGIN:STANDARD
DTSTART;VALUE=DATE-TIME:20220219T230000
TZNAME:BRT
TZOFFSETFROM:-0200
TZOFFSETTO:-0300
END:STANDARD
END:VTIMEZONE
END:VCALENDAR
