BEGIN:VCALENDAR
VERSION:2.0
PRODID:-//Plone.org//NONSGML plone.app.event//EN
X-WR-TIMEZONE:America/Sao_Paulo
BEGIN:VEVENT
SUMMARY:Processo Seletivo COLTEC 2022 em [ Auditorio Nobre do CAD 1 Audito
 rio 1A do CAD 1 Auditorio 2A do CAD 1 Auditorio A102 do Cad 2 Auditorio A1
 04 do Cad 2 Auditório B101/102 do CAD 3 Auditório B301 do CAD 3 Auditór
 io B302 do CAD 3]
DTSTART;TZID=America/Sao_Paulo;VALUE=DATE-TIME:20211211T080000
DTEND;TZID=America/Sao_Paulo;VALUE=DATE-TIME:20211212T180000
DTSTAMP;VALUE=DATE-TIME:20260422T142752Z
UID:bb1c1f36ea644c9dadfc5b31388e3d98@150.164.76.86:8080
CREATED;VALUE=DATE-TIME:20211109T152015Z
DESCRIPTION:<p><span>Tendo em vista a realização do <b>Processo Seletiv
 o do Colégio Técnico da UFMG</b>\, que ocorrerá no dia <b>12 de dezemb
 ro de 2021\, </b>solicitamos à V.Sa. a cessão do espaço físico das 
  Unidades CAD1\, CAD2 e CAD3\,<b> </b>para a aplicação das provas desse
  processo seletivo\, bem como a <b>liberação do mesmo espaço no dia 11
  de dezembro\, </b>para a necessária preparação prévia e manutenção
  das salas a serem utilizadas. </span></p>\n<p> </p>\n<p> </p>\n<p> </
 p>
LAST-MODIFIED;VALUE=DATE-TIME:20230111T201112Z
URL:http://150.164.76.86:8080/cac/agenda/5282261815211512766
END:VEVENT
BEGIN:VTIMEZONE
TZID:America/Sao_Paulo
X-LIC-LOCATION:America/Sao_Paulo
BEGIN:DAYLIGHT
DTSTART;VALUE=DATE-TIME:20211017T010000
TZNAME:BRST
TZOFFSETFROM:-0300
TZOFFSETTO:-0200
END:DAYLIGHT
END:VTIMEZONE
END:VCALENDAR
