BEGIN:VCALENDAR
VERSION:2.0
PRODID:-//Plone.org//NONSGML plone.app.event//EN
X-WR-TIMEZONE:America/Sao_Paulo
BEGIN:VEVENT
SUMMARY:Colação de Grau do IGC (Geografia) em [ Auditorio Nobre do CAD 1
 ]
DTSTART;TZID=America/Sao_Paulo;VALUE=DATE-TIME:20230804T100000
DTEND;TZID=America/Sao_Paulo;VALUE=DATE-TIME:20230804T100000
DTSTAMP;VALUE=DATE-TIME:20260421T075307Z
UID:a85437a841df4fce897b44cf51fa76de@150.164.76.86:8080
CREATED;VALUE=DATE-TIME:20230411T180803Z
DESCRIPTION:<p>Para a Colação de Grau do Curso de Geografia precisaremos
  da mesa de honra (confirmaremos o número de lugares em data oportuna) co
 m a toalha\, uma mesa pequena de apoio com 3 cadeiras\, púlpito\, bandeir
 as e arranjo artificial de flores\, Hino Nacional na versão orquestrada e
 spaço para os alunos vestirem a beca</p>
LAST-MODIFIED;VALUE=DATE-TIME:20230712T185328Z
URL:http://150.164.76.86:8080/cac/agenda/5271366005877218789
END:VEVENT
BEGIN:VTIMEZONE
TZID:America/Sao_Paulo
X-LIC-LOCATION:America/Sao_Paulo
BEGIN:STANDARD
DTSTART;VALUE=DATE-TIME:20230225T230000
TZNAME:BRT
TZOFFSETFROM:-0200
TZOFFSETTO:-0300
END:STANDARD
END:VTIMEZONE
END:VCALENDAR
