BEGIN:VCALENDAR
VERSION:2.0
PRODID:-//Plone.org//NONSGML plone.app.event//EN
X-WR-TIMEZONE:America/Sao_Paulo
BEGIN:VEVENT
SUMMARY:pré-reservada processo seletivo em [ Auditorio Nobre do CAD 1 Aud
 itorio 1A do CAD 1 Auditorio 2A do CAD 1 Auditorio A102 do Cad 2 Auditorio
  A104 do Cad 2 Auditório B302 do CAD 3 Auditório B101/102 do CAD 3 Audit
 ório B301 do CAD 3]
DTSTART;TZID=America/Sao_Paulo;VALUE=DATE-TIME:20220820T060000
DTEND;TZID=America/Sao_Paulo;VALUE=DATE-TIME:20220821T170000
DTSTAMP;VALUE=DATE-TIME:20260422T024852Z
UID:1638a3cc26cd4a24b0a9f81f910f0757@150.164.76.86:8080
CREATED;VALUE=DATE-TIME:20220601T112023Z
DESCRIPTION:<p>Pré-reserva <span>CAD1\, CAD2 e CAD3 nos dias 20 e 21 de 
 agosto de 2022\, para realização de aplicação de provas. (COPEVE)</spa
 n></p>
LAST-MODIFIED;VALUE=DATE-TIME:20230111T201128Z
URL:http://150.164.76.86:8080/cac/agenda/5269869783996226734
END:VEVENT
BEGIN:VTIMEZONE
TZID:America/Sao_Paulo
X-LIC-LOCATION:America/Sao_Paulo
BEGIN:STANDARD
DTSTART;VALUE=DATE-TIME:20220219T230000
TZNAME:BRT
TZOFFSETFROM:-0200
TZOFFSETTO:-0300
END:STANDARD
END:VTIMEZONE
END:VCALENDAR
