BEGIN:VCALENDAR
VERSION:2.0
PRODID:-//Plone.org//NONSGML plone.app.event//EN
X-WR-TIMEZONE:America/Sao_Paulo
BEGIN:VEVENT
SUMMARY:Colação de Grau FAFICH em [ Auditorio A102 do Cad 2]
DTSTART;TZID=America/Sao_Paulo;VALUE=DATE-TIME:20240627T150000
DTEND;TZID=America/Sao_Paulo;VALUE=DATE-TIME:20240627T190000
DTSTAMP;VALUE=DATE-TIME:20260420T012546Z
UID:170a4601376d406bbe426f4486d112c4@150.164.76.86:8080
CREATED;VALUE=DATE-TIME:20240612T132627Z
DESCRIPTION:Colação de grau oficial da FAFICH
LAST-MODIFIED;VALUE=DATE-TIME:20240612T182158Z
URL:http://150.164.76.86:8080/cac/agenda/5263447659126602818
END:VEVENT
BEGIN:VTIMEZONE
TZID:America/Sao_Paulo
X-LIC-LOCATION:America/Sao_Paulo
BEGIN:STANDARD
DTSTART;VALUE=DATE-TIME:20240217T230000
TZNAME:BRT
TZOFFSETFROM:-0200
TZOFFSETTO:-0300
END:STANDARD
END:VTIMEZONE
END:VCALENDAR
