BEGIN:VCALENDAR
VERSION:2.0
PRODID:-//Plone.org//NONSGML plone.app.event//EN
X-WR-TIMEZONE:America/Sao_Paulo
BEGIN:VEVENT
SUMMARY:Conferência Futuros da educação: universidade e escola em [ Aud
 itorio da Reitoria]
DTSTART;TZID=America/Sao_Paulo;VALUE=DATE-TIME:20230816T140000
DTEND;TZID=America/Sao_Paulo;VALUE=DATE-TIME:20230816T170000
DTSTAMP;VALUE=DATE-TIME:20260421T091109Z
UID:cf5e90227bf541649b73662ada59eb45@150.164.76.86:8080
CREATED;VALUE=DATE-TIME:20230713T181534Z
DESCRIPTION:<p>A conferência será proferida pelo Professor Antônio da N
 óvoa\, Reitor da Universidade de Lisboa. A expectativa é de recebermos R
 eitores de outras IFES\, o evento será realizado no auditório da Reitori
 a com transmissão para o Auditório Nobre do CAD I e Auditório do ICA. O
  mesmo deverá ser gravado\, para posterior disponibilização do youtube 
 da Universidade. Sexta-feira\, receberemos mais informações e compartilh
 o com vocês.</p>
LAST-MODIFIED;VALUE=DATE-TIME:20230725T175738Z
URL:http://150.164.76.86:8080/cac/agenda/5259121152059717677
END:VEVENT
BEGIN:VTIMEZONE
TZID:America/Sao_Paulo
X-LIC-LOCATION:America/Sao_Paulo
BEGIN:STANDARD
DTSTART;VALUE=DATE-TIME:20230225T230000
TZNAME:BRT
TZOFFSETFROM:-0200
TZOFFSETTO:-0300
END:STANDARD
END:VTIMEZONE
END:VCALENDAR
