BEGIN:VCALENDAR
VERSION:2.0
PRODID:-//Plone.org//NONSGML plone.app.event//EN
X-WR-TIMEZONE:America/Sao_Paulo
BEGIN:VEVENT
SUMMARY:BANCAS DE HETEROIDENTIFICAÇÃO em [ Outros espacos]
DTSTART;TZID=America/Sao_Paulo;VALUE=DATE-TIME:20230719T070000
DTEND;TZID=America/Sao_Paulo;VALUE=DATE-TIME:20230719T180000
DTSTAMP;VALUE=DATE-TIME:20260421T104138Z
UID:5d59eed4c9764a31b19e913434ea11ef@150.164.76.86:8080
CREATED;VALUE=DATE-TIME:20230216T181251Z
DESCRIPTION:<p><span><span><span><span><span><span><span>Registro Acadêmi
 co Presencial - Bancas de Heteroidentificação</span></span></span></span
 ></span></span></span></p>
LAST-MODIFIED;VALUE=DATE-TIME:20230217T121333Z
URL:http://150.164.76.86:8080/cac/agenda/525862426278944816
END:VEVENT
BEGIN:VTIMEZONE
TZID:America/Sao_Paulo
X-LIC-LOCATION:America/Sao_Paulo
BEGIN:STANDARD
DTSTART;VALUE=DATE-TIME:20230225T230000
TZNAME:BRT
TZOFFSETFROM:-0200
TZOFFSETTO:-0300
END:STANDARD
END:VTIMEZONE
END:VCALENDAR
