BEGIN:VCALENDAR
VERSION:2.0
PRODID:-//Plone.org//NONSGML plone.app.event//EN
X-WR-TIMEZONE:America/Sao_Paulo
BEGIN:VEVENT
SUMMARY:Gene Time Conference 2024 em [ Auditorio Nobre do CAD 1]
DTSTART;TZID=America/Sao_Paulo;VALUE=DATE-TIME:20241029T070000
DTEND;TZID=America/Sao_Paulo;VALUE=DATE-TIME:20241031T220000
DTSTAMP;VALUE=DATE-TIME:20260419T191900Z
UID:d9fb1588cc034e7595405570de5b16d6@150.164.76.86:8080
CREATED;VALUE=DATE-TIME:20240306T005030Z
DESCRIPTION:<p>suporte para pôsters multimidia (som\, microfone\, datasho
 w)</p>
LAST-MODIFIED;VALUE=DATE-TIME:20240812T192034Z
URL:http://150.164.76.86:8080/cac/agenda/5228809194219333625
END:VEVENT
BEGIN:VTIMEZONE
TZID:America/Sao_Paulo
X-LIC-LOCATION:America/Sao_Paulo
BEGIN:DAYLIGHT
DTSTART;VALUE=DATE-TIME:20241020T010000
TZNAME:BRST
TZOFFSETFROM:-0300
TZOFFSETTO:-0200
END:DAYLIGHT
END:VTIMEZONE
END:VCALENDAR
