BEGIN:VCALENDAR
VERSION:2.0
PRODID:-//Plone.org//NONSGML plone.app.event//EN
X-WR-TIMEZONE:America/Sao_Paulo
BEGIN:VEVENT
SUMMARY:CAPACIDADE EXCEDIDA em [ Auditorio A102 do Cad 2 Auditorio A104 do
  Cad 2]
DTSTART;TZID=America/Sao_Paulo;VALUE=DATE-TIME:20200604T000000
DTEND;TZID=America/Sao_Paulo;VALUE=DATE-TIME:20200607T230000
DTSTAMP;VALUE=DATE-TIME:20260424T221617Z
UID:bceae6c0db7d432ba565114f8138214b@150.164.76.86:8080
CREATED;VALUE=DATE-TIME:20200114T203948Z
DESCRIPTION:<p>A pedido da coordenadora da CAC Cássia Monteiro\, aprovado
  em reuniões dos dias 09 e 10/01/2020.<br />Atenciosamente<br />Coordenad
 oria de Assuntos Comunitários</p>
LAST-MODIFIED;VALUE=DATE-TIME:20200114T210347Z
URL:http://150.164.76.86:8080/cac/agenda/5203836424156908100
END:VEVENT
BEGIN:VTIMEZONE
TZID:America/Sao_Paulo
X-LIC-LOCATION:America/Sao_Paulo
BEGIN:STANDARD
DTSTART;VALUE=DATE-TIME:20200215T230000
TZNAME:BRT
TZOFFSETFROM:-0200
TZOFFSETTO:-0300
END:STANDARD
END:VTIMEZONE
END:VCALENDAR
