BEGIN:VCALENDAR
VERSION:2.0
PRODID:-//Plone.org//NONSGML plone.app.event//EN
X-WR-TIMEZONE:America/Sao_Paulo
BEGIN:VEVENT
SUMMARY:Solenidade do meio enfermeiro em [ Auditorio Nobre do CAD 1 - sem 
 copa\, saguão parcial]
DTSTART;TZID=America/Sao_Paulo;VALUE=DATE-TIME:20250530T190000
DTEND;TZID=America/Sao_Paulo;VALUE=DATE-TIME:20250530T220000
DTSTAMP;VALUE=DATE-TIME:20260419T103510Z
UID:d54ee5fb97934f69b5558c8eb9070cac@150.164.76.86:8080
CREATED;VALUE=DATE-TIME:20241204T002528Z
DESCRIPTION:<p>Trata-se de solenidade comemorativa do rito de passagem dos
  estudantes de enfermagem do ciclo básico para o ciclo profissional\, inc
 luindo cerimônia da lâmpada e do jaleco a serem conduzidas e apoiadas pe
 la Coordenação do Centro de Memória da Escola de Enfermagem da UFMG - P
 rofa. Fernanda Batista Oliveira Santos.</p>
LAST-MODIFIED;VALUE=DATE-TIME:20250430T211722Z
URL:http://150.164.76.86:8080/cac/agenda/518301933826191295
END:VEVENT
BEGIN:VTIMEZONE
TZID:America/Sao_Paulo
X-LIC-LOCATION:America/Sao_Paulo
BEGIN:STANDARD
DTSTART;VALUE=DATE-TIME:20250215T230000
TZNAME:BRT
TZOFFSETFROM:-0200
TZOFFSETTO:-0300
END:STANDARD
END:VTIMEZONE
END:VCALENDAR
