BEGIN:VCALENDAR
VERSION:2.0
PRODID:-//Plone.org//NONSGML plone.app.event//EN
X-WR-TIMEZONE:America/Sao_Paulo
BEGIN:VEVENT
SUMMARY:Obras DEMAI Eletricidade em [ Auditório B101/102 do CAD 3 Auditó
 rio B106 do CAD3 Auditório B107 do CAD3]
DTSTART;TZID=America/Sao_Paulo;VALUE=DATE-TIME:20231120T070000
DTEND;TZID=America/Sao_Paulo;VALUE=DATE-TIME:20231122T200000
DTSTAMP;VALUE=DATE-TIME:20260420T131742Z
UID:00bba85fed2948179d5c9f371a4f84eb@150.164.76.86:8080
CREATED;VALUE=DATE-TIME:20231017T133719Z
DESCRIPTION:<p>Obras</p>
LAST-MODIFIED;VALUE=DATE-TIME:20231017T134056Z
URL:http://150.164.76.86:8080/cac/agenda/5180124499727817864
END:VEVENT
BEGIN:VTIMEZONE
TZID:America/Sao_Paulo
X-LIC-LOCATION:America/Sao_Paulo
BEGIN:DAYLIGHT
DTSTART;VALUE=DATE-TIME:20231015T010000
TZNAME:BRST
TZOFFSETFROM:-0300
TZOFFSETTO:-0200
END:DAYLIGHT
END:VTIMEZONE
END:VCALENDAR
