BEGIN:VCALENDAR
VERSION:2.0
PRODID:-//Plone.org//NONSGML plone.app.event//EN
X-WR-TIMEZONE:America/Sao_Paulo
BEGIN:VEVENT
SUMMARY:Reunião Conselho  Universitário em [ Outros espacos]
DTSTART;TZID=America/Sao_Paulo;VALUE=DATE-TIME:20240813T140000
DTEND;TZID=America/Sao_Paulo;VALUE=DATE-TIME:20240813T180000
DTSTAMP;VALUE=DATE-TIME:20260419T222634Z
UID:75912ddb31764321bab80a774f6d00ad@150.164.76.86:8080
CREATED;VALUE=DATE-TIME:20240809T153420Z
DESCRIPTION:<p>Reunião Conselho Universitário</p>
LAST-MODIFIED;VALUE=DATE-TIME:20240809T153433Z
URL:http://150.164.76.86:8080/cac/agenda/5178351406394783077
END:VEVENT
BEGIN:VTIMEZONE
TZID:America/Sao_Paulo
X-LIC-LOCATION:America/Sao_Paulo
BEGIN:STANDARD
DTSTART;VALUE=DATE-TIME:20240217T230000
TZNAME:BRT
TZOFFSETFROM:-0200
TZOFFSETTO:-0300
END:STANDARD
END:VTIMEZONE
END:VCALENDAR
