BEGIN:VCALENDAR
VERSION:2.0
PRODID:-//Plone.org//NONSGML plone.app.event//EN
X-WR-TIMEZONE:America/Sao_Paulo
BEGIN:VEVENT
SUMMARY:Pré-reserva 2a. Semana de Moda da UFMG em [ Auditorio A102 do Cad
  2 Auditorio A104 do Cad 2]
DTSTART;TZID=America/Sao_Paulo;VALUE=DATE-TIME:20250113T070000
DTEND;TZID=America/Sao_Paulo;VALUE=DATE-TIME:20250117T220000
DTSTAMP;VALUE=DATE-TIME:20260419T133010Z
UID:f6c8ff5006064f9abe502224ac06efae@150.164.76.86:8080
CREATED;VALUE=DATE-TIME:20240704T124631Z
DESCRIPTION:<p>pré-reserva</p>
LAST-MODIFIED;VALUE=DATE-TIME:20241210T195824Z
URL:http://150.164.76.86:8080/cac/agenda/516562671464454335
END:VEVENT
BEGIN:VTIMEZONE
TZID:America/Sao_Paulo
X-LIC-LOCATION:America/Sao_Paulo
BEGIN:DAYLIGHT
DTSTART;VALUE=DATE-TIME:20241020T010000
TZNAME:BRST
TZOFFSETFROM:-0300
TZOFFSETTO:-0200
END:DAYLIGHT
END:VTIMEZONE
END:VCALENDAR
