BEGIN:VCALENDAR
VERSION:2.0
PRODID:-//Plone.org//NONSGML plone.app.event//EN
X-WR-TIMEZONE:America/Sao_Paulo
BEGIN:VEVENT
SUMMARY:IX Edição Congresso Internacional sobre Culturas em [ Auditorio 
 Nobre do CAD 1]
DTSTART;TZID=America/Sao_Paulo;VALUE=DATE-TIME:20231106T070000
DTEND;TZID=America/Sao_Paulo;VALUE=DATE-TIME:20231107T190000
DTSTAMP;VALUE=DATE-TIME:20260420T114536Z
UID:73d488878ecc4e82a2fb11e4093c15a7@150.164.76.86:8080
CREATED;VALUE=DATE-TIME:20230622T185110Z
DESCRIPTION:IX Congresso Internacional de Culturas\n\nEquipamentos de som 
 e luz
LAST-MODIFIED;VALUE=DATE-TIME:20231010T143313Z
URL:http://150.164.76.86:8080/cac/agenda/51602015594005812
END:VEVENT
BEGIN:VTIMEZONE
TZID:America/Sao_Paulo
X-LIC-LOCATION:America/Sao_Paulo
BEGIN:DAYLIGHT
DTSTART;VALUE=DATE-TIME:20231015T010000
TZNAME:BRST
TZOFFSETFROM:-0300
TZOFFSETTO:-0200
END:DAYLIGHT
END:VTIMEZONE
END:VCALENDAR
