BEGIN:VCALENDAR
VERSION:2.0
PRODID:-//Plone.org//NONSGML plone.app.event//EN
X-WR-TIMEZONE:America/Sao_Paulo
BEGIN:VEVENT
SUMMARY:20 Econtro da Rede Mineira de Propriedade Intelectual em [ Auditó
 rio B106 do CAD3]
DTSTART;TZID=America/Sao_Paulo;VALUE=DATE-TIME:20231123T080000
DTEND;TZID=America/Sao_Paulo;VALUE=DATE-TIME:20231124T210000
DTSTAMP;VALUE=DATE-TIME:20260420T143117Z
UID:17a60294df7b48b4ab3774456ea3bb58@150.164.76.86:8080
CREATED;VALUE=DATE-TIME:20230324T113823Z
DESCRIPTION:<p>20º Encontro da Rede Mineira de Propriedade Intelectual - 
 necessitamos de apoio de som e informática para apresentações dos convi
 dados. Obrigada</p>
LAST-MODIFIED;VALUE=DATE-TIME:20231108T174443Z
URL:http://150.164.76.86:8080/cac/agenda/5138486312484426699
END:VEVENT
BEGIN:VTIMEZONE
TZID:America/Sao_Paulo
X-LIC-LOCATION:America/Sao_Paulo
BEGIN:DAYLIGHT
DTSTART;VALUE=DATE-TIME:20231015T010000
TZNAME:BRST
TZOFFSETFROM:-0300
TZOFFSETTO:-0200
END:DAYLIGHT
END:VTIMEZONE
END:VCALENDAR
