BEGIN:VCALENDAR
VERSION:2.0
PRODID:-//Plone.org//NONSGML plone.app.event//EN
X-WR-TIMEZONE:America/Sao_Paulo
BEGIN:VEVENT
SUMMARY:Feira Preta Novembro Negro em [ Entorno da Praca de Servicos]
DTSTART;TZID=America/Sao_Paulo;VALUE=DATE-TIME:20241104T080000
DTEND;TZID=America/Sao_Paulo;VALUE=DATE-TIME:20241105T170000
DTSTAMP;VALUE=DATE-TIME:20260419T175653Z
UID:3d9b7247136944a0a211f44246d2dd32@150.164.76.86:8080
CREATED;VALUE=DATE-TIME:20240827T195814Z
DESCRIPTION:<p>Feira Preta - Atividade da Programação do Novembro Negro 
 - Exposição de Artesanato de Empreendedores Negros e Negras</p>
LAST-MODIFIED;VALUE=DATE-TIME:20240828T153704Z
URL:http://150.164.76.86:8080/cac/agenda/5135935909914272482
END:VEVENT
BEGIN:VTIMEZONE
TZID:America/Sao_Paulo
X-LIC-LOCATION:America/Sao_Paulo
BEGIN:DAYLIGHT
DTSTART;VALUE=DATE-TIME:20241020T010000
TZNAME:BRST
TZOFFSETFROM:-0300
TZOFFSETTO:-0200
END:DAYLIGHT
END:VTIMEZONE
END:VCALENDAR
