BEGIN:VCALENDAR
VERSION:2.0
PRODID:-//Plone.org//NONSGML plone.app.event//EN
X-WR-TIMEZONE:America/Sao_Paulo
BEGIN:VEVENT
SUMMARY:Quarta doze e trinta e Ao Cair da tarde em [ Auditorio da Reitoria
 ]
DTSTART;TZID=America/Sao_Paulo;VALUE=DATE-TIME:20240820T080000
DTEND;TZID=America/Sao_Paulo;VALUE=DATE-TIME:20240822T210000
DTSTAMP;VALUE=DATE-TIME:20260419T235144Z
UID:722fde20f832482983056f4162c023ef@150.164.76.86:8080
CREATED;VALUE=DATE-TIME:20240308T134604Z
DESCRIPTION:<p>Evento Profª Mariana Muniz Belas Artes/Teatro</p>
LAST-MODIFIED;VALUE=DATE-TIME:20240308T190724Z
URL:http://150.164.76.86:8080/cac/agenda/5133167998585862303
END:VEVENT
BEGIN:VTIMEZONE
TZID:America/Sao_Paulo
X-LIC-LOCATION:America/Sao_Paulo
BEGIN:STANDARD
DTSTART;VALUE=DATE-TIME:20240217T230000
TZNAME:BRT
TZOFFSETFROM:-0200
TZOFFSETTO:-0300
END:STANDARD
END:VTIMEZONE
END:VCALENDAR
