BEGIN:VCALENDAR
VERSION:2.0
PRODID:-//Plone.org//NONSGML plone.app.event//EN
X-WR-TIMEZONE:America/Sao_Paulo
BEGIN:VEVENT
SUMMARY:CAPACIDADE EXCEDIDA em [ Saguao da Reitoria Gramado da Reitoria Em
  torno da Praca de Servicos Auditorio 1A do CAD 1 Auditorio 2A do CAD 1 Ar
 ena da praça de serviços Auditório B301 do CAD 3]
DTSTART;TZID=America/Sao_Paulo;VALUE=DATE-TIME:20200518T130000
DTEND;TZID=America/Sao_Paulo;VALUE=DATE-TIME:20200518T230000
DTSTAMP;VALUE=DATE-TIME:20260425T001054Z
UID:a4299c59f2c34d12af87c1be2de84c0d@150.164.76.86:8080
CREATED;VALUE=DATE-TIME:20200205T134825Z
DESCRIPTION:<p>.</p>
LAST-MODIFIED;VALUE=DATE-TIME:20200205T134847Z
URL:http://150.164.76.86:8080/cac/agenda/5119979569344453629
END:VEVENT
BEGIN:VTIMEZONE
TZID:America/Sao_Paulo
X-LIC-LOCATION:America/Sao_Paulo
BEGIN:STANDARD
DTSTART;VALUE=DATE-TIME:20200215T230000
TZNAME:BRT
TZOFFSETFROM:-0200
TZOFFSETTO:-0300
END:STANDARD
END:VTIMEZONE
END:VCALENDAR
