BEGIN:VCALENDAR
VERSION:2.0
PRODID:-//Plone.org//NONSGML plone.app.event//EN
X-WR-TIMEZONE:America/Sao_Paulo
BEGIN:VEVENT
SUMMARY:3ª CONFERÊNCIA DISTRITAL DE SAÚDE DO TRABALHADOR em [ Auditorio
  A104 do Cad 2]
DTSTART;TZID=America/Sao_Paulo;VALUE=DATE-TIME:20250220T150000
DTEND;TZID=America/Sao_Paulo;VALUE=DATE-TIME:20250221T183000
DTSTAMP;VALUE=DATE-TIME:20260419T134158Z
UID:ebb3344578324e47b5161357c237d534@150.164.76.86:8080
CREATED;VALUE=DATE-TIME:20250113T193124Z
DESCRIPTION:<p><span>O Conselho Distrital de Saúde Pampulha promoverá a
  </span><span>3ª Conferência Distrital do Trabalhador.</span></p>
LAST-MODIFIED;VALUE=DATE-TIME:20250113T193956Z
URL:http://150.164.76.86:8080/cac/agenda/5102611434808940892
END:VEVENT
BEGIN:VTIMEZONE
TZID:America/Sao_Paulo
X-LIC-LOCATION:America/Sao_Paulo
BEGIN:STANDARD
DTSTART;VALUE=DATE-TIME:20250215T230000
TZNAME:BRT
TZOFFSETFROM:-0200
TZOFFSETTO:-0300
END:STANDARD
END:VTIMEZONE
END:VCALENDAR
