BEGIN:VCALENDAR
VERSION:2.0
PRODID:-//Plone.org//NONSGML plone.app.event//EN
X-WR-TIMEZONE:America/Sao_Paulo
BEGIN:VEVENT
SUMMARY:Quarta doze e trinta - show musical Mandinga e Stance Joel Martins
  em [ Arena da praça de serviços]
DTSTART;TZID=America/Sao_Paulo;VALUE=DATE-TIME:20221116T090000
DTEND;TZID=America/Sao_Paulo;VALUE=DATE-TIME:20221116T150000
DTSTAMP;VALUE=DATE-TIME:20260421T221041Z
UID:c013333c854b4ddeae7970c529454722@150.164.76.86:8080
CREATED;VALUE=DATE-TIME:20221104T135452Z
DESCRIPTION:Show musical Mandinga e Stance com Joel Martins Demanda Técni
 ca:\n\n2 direct box\n1 microfone para voz com pedestal\n1 linha para ligar
  pedal de bumbo \n1 microfone ouver\n2 cabos p10p10.\n\nO set é composto 
 por: \nBerimlata (uma variação de berimbau)\nUm Tambor\nUm set de atabaq
 ues (bandejas)\nPedais de efeitos\nMoringa
LAST-MODIFIED;VALUE=DATE-TIME:20221108T193247Z
URL:http://150.164.76.86:8080/cac/agenda/5086175564858901866
END:VEVENT
BEGIN:VTIMEZONE
TZID:America/Sao_Paulo
X-LIC-LOCATION:America/Sao_Paulo
BEGIN:DAYLIGHT
DTSTART;VALUE=DATE-TIME:20221016T010000
TZNAME:BRST
TZOFFSETFROM:-0300
TZOFFSETTO:-0200
END:DAYLIGHT
END:VTIMEZONE
END:VCALENDAR
