BEGIN:VCALENDAR
VERSION:2.0
PRODID:-//Plone.org//NONSGML plone.app.event//EN
X-WR-TIMEZONE:America/Sao_Paulo
BEGIN:VEVENT
SUMMARY:Semana de Orientação do Estudante Internacional - SOEI_2023/2 em
  [ Auditorio da Reitoria]
DTSTART;TZID=America/Sao_Paulo;VALUE=DATE-TIME:20230802T080000
DTEND;TZID=America/Sao_Paulo;VALUE=DATE-TIME:20230804T170000
DTSTAMP;VALUE=DATE-TIME:20260421T075332Z
UID:d04760ec355e4859ab70ce8360774c0c@150.164.76.86:8080
CREATED;VALUE=DATE-TIME:20221222T105740Z
DESCRIPTION:<p>A Diretoria de Relações Internacionais da UFMG promoverá
  a Semana de Orientação do Estudante Internacional 2023/2\, um evento de
  três dias que visa recepcionar os intercambistas da UFMG. Com palestras 
 e apresentações culturais.</p>
LAST-MODIFIED;VALUE=DATE-TIME:20230104T194518Z
URL:http://150.164.76.86:8080/cac/agenda/507100041069583423
END:VEVENT
BEGIN:VTIMEZONE
TZID:America/Sao_Paulo
X-LIC-LOCATION:America/Sao_Paulo
BEGIN:STANDARD
DTSTART;VALUE=DATE-TIME:20230225T230000
TZNAME:BRT
TZOFFSETFROM:-0200
TZOFFSETTO:-0300
END:STANDARD
END:VTIMEZONE
END:VCALENDAR
