BEGIN:VCALENDAR
VERSION:2.0
PRODID:-//Plone.org//NONSGML plone.app.event//EN
X-WR-TIMEZONE:America/Sao_Paulo
BEGIN:VEVENT
SUMMARY:Assembleia Sindical Estatutária em [ Auditorio A102 do Cad 2]
DTSTART;TZID=America/Sao_Paulo;VALUE=DATE-TIME:20240312T090000
DTEND;TZID=America/Sao_Paulo;VALUE=DATE-TIME:20240312T130000
DTSTAMP;VALUE=DATE-TIME:20260420T063327Z
UID:7db59a974f0348418c2b70ed866c83b4@150.164.76.86:8080
CREATED;VALUE=DATE-TIME:20240220T143629Z
DESCRIPTION:<p>Assembleia Sindical Estatutária</p>
LAST-MODIFIED;VALUE=DATE-TIME:20240221T142839Z
URL:http://150.164.76.86:8080/cac/agenda/5055584357962340516
END:VEVENT
BEGIN:VTIMEZONE
TZID:America/Sao_Paulo
X-LIC-LOCATION:America/Sao_Paulo
BEGIN:STANDARD
DTSTART;VALUE=DATE-TIME:20240217T230000
TZNAME:BRT
TZOFFSETFROM:-0200
TZOFFSETTO:-0300
END:STANDARD
END:VTIMEZONE
END:VCALENDAR
