BEGIN:VCALENDAR
VERSION:2.0
PRODID:-//Plone.org//NONSGML plone.app.event//EN
X-WR-TIMEZONE:America/Sao_Paulo
BEGIN:VEVENT
SUMMARY:PicadeRRÓ em [ Arena da praça de serviços]
DTSTART;TZID=America/Sao_Paulo;VALUE=DATE-TIME:20231011T173000
DTEND;TZID=America/Sao_Paulo;VALUE=DATE-TIME:20231011T190000
DTSTAMP;VALUE=DATE-TIME:20260421T015830Z
UID:99429ad10fe1429f890a776dcbad061c@150.164.76.86:8080
CREATED;VALUE=DATE-TIME:20230706T144539Z
DESCRIPTION:Evento de caráter cultural com objetivo de divulgação da cu
 ltura do forró\, promovendo forró gratuitamente para toda a comunidade d
 a UFMG. \nUtilizamos nossos próprios equipamentos sendo eles: caixa de so
 m\, microfone e computadores.
LAST-MODIFIED;VALUE=DATE-TIME:20230706T152014Z
URL:http://150.164.76.86:8080/cac/agenda/5045687692218580745
END:VEVENT
BEGIN:VTIMEZONE
TZID:America/Sao_Paulo
X-LIC-LOCATION:America/Sao_Paulo
BEGIN:STANDARD
DTSTART;VALUE=DATE-TIME:20230225T230000
TZNAME:BRT
TZOFFSETFROM:-0200
TZOFFSETTO:-0300
END:STANDARD
END:VTIMEZONE
END:VCALENDAR
