BEGIN:VCALENDAR
VERSION:2.0
PRODID:-//Plone.org//NONSGML plone.app.event//EN
X-WR-TIMEZONE:America/Sao_Paulo
BEGIN:VEVENT
SUMMARY:Seminário Fhemig/UFMG em [ Outros espacos]
DTSTART;TZID=America/Sao_Paulo;VALUE=DATE-TIME:20240417T140000
DTEND;TZID=America/Sao_Paulo;VALUE=DATE-TIME:20240417T160000
DTSTAMP;VALUE=DATE-TIME:20260420T044450Z
UID:997ec82188364e818133be3e65c113fe@150.164.76.86:8080
CREATED;VALUE=DATE-TIME:20240319T123907Z
DESCRIPTION:Seminário decorrente de parceria Fhemig/UFMG.\n\nServiços pa
 ra transmissão e gravação de evento online.\n\nProgramação: abertura 
 e palestra de convidados.
LAST-MODIFIED;VALUE=DATE-TIME:20240416T131237Z
URL:http://150.164.76.86:8080/cac/agenda/504265089679875672
END:VEVENT
BEGIN:VTIMEZONE
TZID:America/Sao_Paulo
X-LIC-LOCATION:America/Sao_Paulo
BEGIN:STANDARD
DTSTART;VALUE=DATE-TIME:20240217T230000
TZNAME:BRT
TZOFFSETFROM:-0200
TZOFFSETTO:-0300
END:STANDARD
END:VTIMEZONE
END:VCALENDAR
